BEGIN:VCALENDAR
VERSION:2.0
PRODID:-//urwahl3000//gruene-rimsting.de//DE
CALSCALE:GREGORIAN
BEGIN:VEVENT
DTSTART:20200113T193000
DTEND:20200113T193000
LOCATION:Endorfer Str. 1  83253 Rimsting
DTSTAMP:20200113T193000
SUMMARY:Nachhaltig regional – mehr als heiße Luft?
URL;VALUE=URI:https://gruene-rimsting.de/termin/1300/
DESCRIPTION:Nachhaltig regional - zwei Begriffe die heute teilweise strapaziert werden. Wir möchten in einer lockeren Runde aufzeigen, wie wir unser Leben nachhaltig in der Region gestalten können.

Als Anregungen für Dialog haben wir uns folgende Fragestellungen überlegt:
<ul>
 	<li>Was kann jeder einzelne in Rimsting beitragen?</li>
 	<li>Was erwarten wir von der Gemeinde?</li>
 	<li>Wie sollten wir den öffentlichen Nahverkehr verbessern?</li>
</ul>
Wir freuen uns auf einen spannenden Dialog und viele Anregungen.
<h3>Fachleute des Abends</h3>
<strong>Gisela Sengl</strong>, seit 2013 Abgeordnete des Bayerischen Landtages für Bündnis90/Die Grünen und deren agrarpolitische Sprecherin, betreibt einen Demeterhof und einen Bioladen in Sondermoning.

<strong>Stephan Walter</strong>, Berufsimker und Bürgermeisterkandidat der Grünen für Rimsting
<h3>Treffpunkt</h3>
Landhotel & Wirtshaus beim Has´n
Endorfer Str. 1
83253 Rimsting
<h3>Datum und Uhrzeit</h3>
13.01.2020 19:30
UID:20200113T193000-20200113T193000-20200113T193000
END:VEVENT
END:VCALENDAR