BEGIN:VCALENDAR
VERSION:2.0
PRODID:-//urwahl3000//gruene-rimsting.de//DE
CALSCALE:GREGORIAN
BEGIN:VEVENT
DTSTART:20191211T190000
DTEND:20191211T190000
LOCATION:Westernach 6 83253 Rimsting
DTSTAMP:20191211T190000
SUMMARY:Aufstellungsversammlung Kommunalwahl 2020
URL;VALUE=URI:https://gruene-rimsting.de/termin/aufstellungsversammlung-kommunalwahl-2020/
DESCRIPTION:Wir treffen uns am Strandkiosk an der Schafwaschener Bucht zur Aufstellungsversammlung. Hier werden wir die Kandidaten für die Grüne Liste der Kommunalwahl 2020 in Rimsting festlegen.

<strong>Tagesordnung</strong>
<ol>
 	<li>Begrüßung durch den Ortsvorstand</li>
 	<li>Benennung der Versammlungsleitung und der Protokollführung durch Abstimmung</li>
 	<li>Feststellung der ordnungsgemäßen Ladung und der Beschlussfähigkeit</li>
 	<li>Erläuterung der Formalia und des Ablaufes des Wahlverfahrens</li>
 	<li>Beschlussfassung zum Frauenstatut</li>
 	<li>Nennung der Kandidat*innen für die Gemeinderatsliste</li>
 	<li>Vorstellungsrunde der Kandidat*innen</li>
 	<li>Bestimmung des Wahlausschusses</li>
 	<li>Wahl</li>
 	<li>Benennung des Beauftragten für den Wahlvorschlag</li>
 	<li>Schließung der Versammlung</li>
</ol>
Wir freuen uns auf zahlreiches Erscheinen von Mitglieder und Nichtmitglieder.
UID:20191211T190000-20191211T190000-20191211T190000
END:VEVENT
END:VCALENDAR